BEGIN:VCALENDAR
VERSION:2.0
PRODID:icalendar-ruby
CALSCALE:GREGORIAN
METHOD:PUBLISH
BEGIN:VEVENT
DTSTAMP:20260423T223611Z
UID:49-417058@prairiebaptist.org
DTSTART:20261110T000000Z
DTEND:20261110T010000Z
CLASS:PUBLIC
CREATED:20260422T102922
DESCRIPTION:Join MORE2 at their Issues 2 Action Nights. Every second Monday
  at 6pm.
LAST-MODIFIED:20260422T102922
LOCATION:Linwood United Church\, 3151 Olive\, KC MO
SUMMARY:MORE2 Issues 2 Action Nights
URL;VALUE=URI:https://prairiebaptist.org/events/more2-issues-2-action-night
 s/2026-11-09
ATTACH;FILENAME=More-2.jpg;FMTTYPE=image/jpeg:https://dq5pwpg1q8ru0.cloudfr
 ont.net/2026/04/22/15/29/22/19d21b32-0363-4bd4-938f-86c0204fa488/More-2.jp
 g
END:VEVENT
END:VCALENDAR
