BEGIN:VCALENDAR
VERSION:2.0
PRODID:icalendar-ruby
CALSCALE:GREGORIAN
METHOD:PUBLISH
BEGIN:VEVENT
DTSTAMP:20260425T105038Z
UID:5-421496@prairiebaptist.org
DTSTART:20261101T161500Z
DTEND:20261101T173000Z
CLASS:PUBLIC
CREATED:20260424T214209
DESCRIPTION:Sunday Worship
LAST-MODIFIED:20260424T214209
LOCATION:
SUMMARY:Sunday Worship
URL;VALUE=URI:https://prairiebaptist.org/events/sunday-worship/2026-11-01
END:VEVENT
END:VCALENDAR
